BEGIN:VCALENDAR
VERSION:2.0
PRODID:-//Plone.org//NONSGML plone.app.event//EN
X-WR-TIMEZONE:Europe/Rome
BEGIN:VEVENT
SUMMARY:Attacchi informatici alle aziende\, un fenomeno da comprendere per
  sapersi difendere
DTSTART;TZID=Europe/Rome;VALUE=DATE-TIME:20240702T163000
DTEND;TZID=Europe/Rome;VALUE=DATE-TIME:20240702T183000
DTSTAMP;VALUE=DATE-TIME:20260419T163147Z
UID:90c5a5395bfb4ff29447c73b142e2d09@www.mo.camcom.it
CATEGORIES:Modena Economica,pid
CREATED;VALUE=DATE-TIME:20240611T140046Z
DESCRIPTION:Martedì 2 luglio 2024\, Sala Eventi Tecnopolo di Modena\, Via
  P. Vivarelli 2 - Dipartimento di Ingegneria "Enzo Ferrari"
LAST-MODIFIED;VALUE=DATE-TIME:20240703T090646Z
LOCATION:Sala Eventi Tecnopolo di Modena\, Via P. Vivarelli 2 - Dipartimen
 to di Ingegneria "Enzo Ferrari"
URL:https://www.mo.camcom.it/modena-economica/news/attacchi-informatici-al
 le-aziende-un-fenomeno-da-comprendere-per-sapersi-difendere
END:VEVENT
BEGIN:VTIMEZONE
TZID:Europe/Rome
X-LIC-LOCATION:Europe/Rome
BEGIN:DAYLIGHT
DTSTART;VALUE=DATE-TIME:20240331T030000
TZNAME:CEST
TZOFFSETFROM:+0100
TZOFFSETTO:+0200
END:DAYLIGHT
END:VTIMEZONE
END:VCALENDAR
