BEGIN:VCALENDAR
VERSION:2.0
PRODID:-//Plone.org//NONSGML plone.app.event//EN
X-WR-TIMEZONE:Europe/Rome
BEGIN:VEVENT
SUMMARY:"Smart roads: the digital revolution"
DTSTART;TZID=Europe/Rome;VALUE=DATE-TIME:20260420T200000
DTEND;TZID=Europe/Rome;VALUE=DATE-TIME:20260420T210000
DTSTAMP;VALUE=DATE-TIME:20260420T203530Z
UID:2edb165509b74e1090c877fc93c5ce30@www.mo.camcom.it
CATEGORIES:pid,Manifestazione,Eventi PID
CREATED;VALUE=DATE-TIME:20180926T124435Z
DESCRIPTION:Dimostrazioni in pista e anteprime il 27 settembre 2018 all'Au
 todromo di Modena in una giornata dedicata al MASA\, laboratorio sulla mob
 ilità del futuro. Presente anche il PID - Punto Impresa Digitale di Moden
 a
LAST-MODIFIED;VALUE=DATE-TIME:20211005T133342Z
LOCATION:Autodromo di Modena
URL:https://www.mo.camcom.it/events/smart-roads-the-digital-revolution
END:VEVENT
BEGIN:VTIMEZONE
TZID:Europe/Rome
X-LIC-LOCATION:Europe/Rome
BEGIN:DAYLIGHT
DTSTART;VALUE=DATE-TIME:20260329T030000
TZNAME:CEST
TZOFFSETFROM:+0100
TZOFFSETTO:+0200
END:DAYLIGHT
END:VTIMEZONE
END:VCALENDAR
