BEGIN:VCALENDAR
VERSION:2.0
PRODID:-//Plone.org//NONSGML plone.app.event//EN
X-WR-TIMEZONE:Europe/Rome
BEGIN:VEVENT
SUMMARY:"Il futuro dell'automotive" convegno inaugurale del Motor Valley F
 est
DTSTART;TZID=Europe/Rome;VALUE=DATE-TIME:20260421T010000
DTEND;TZID=Europe/Rome;VALUE=DATE-TIME:20260421T020000
DTSTAMP;VALUE=DATE-TIME:20260421T011051Z
UID:d2f3de9fdd6d454fa1ea65eeb0f246ff@www.mo.camcom.it
CATEGORIES:Convegno
CREATED;VALUE=DATE-TIME:20190429T120048Z
DESCRIPTION:16 maggio 2019 ore 9\,30 al Teatro Comunale di Modena Luciano 
 Pavarotti
LAST-MODIFIED;VALUE=DATE-TIME:20190723T082134Z
LOCATION:Teatro Comunale di Modena "Luciano Pavarotti"
URL:https://www.mo.camcom.it/events/il-futuro-dellautomotive-convengo-inau
 gurale-del-motor-valley-fest
END:VEVENT
BEGIN:VTIMEZONE
TZID:Europe/Rome
X-LIC-LOCATION:Europe/Rome
BEGIN:DAYLIGHT
DTSTART;VALUE=DATE-TIME:20260329T030000
TZNAME:CEST
TZOFFSETFROM:+0100
TZOFFSETTO:+0200
END:DAYLIGHT
END:VTIMEZONE
END:VCALENDAR
